BEGIN:VCALENDAR
VERSION:2.0
PRODID:-// - ECPv6.15.20//NONSGML v1.0//EN
CALSCALE:GREGORIAN
METHOD:PUBLISH
X-ORIGINAL-URL:https://muenchen-aphasiker-kultur.de
X-WR-CALDESC:Veranstaltungen für 
REFRESH-INTERVAL;VALUE=DURATION:PT1H
X-Robots-Tag:noindex
X-PUBLISHED-TTL:PT1H
BEGIN:VTIMEZONE
TZID:Europe/Berlin
BEGIN:DAYLIGHT
TZOFFSETFROM:+0100
TZOFFSETTO:+0200
TZNAME:CEST
DTSTART:20230326T010000
END:DAYLIGHT
BEGIN:STANDARD
TZOFFSETFROM:+0200
TZOFFSETTO:+0100
TZNAME:CET
DTSTART:20231029T010000
END:STANDARD
BEGIN:DAYLIGHT
TZOFFSETFROM:+0100
TZOFFSETTO:+0200
TZNAME:CEST
DTSTART:20240331T010000
END:DAYLIGHT
BEGIN:STANDARD
TZOFFSETFROM:+0200
TZOFFSETTO:+0100
TZNAME:CET
DTSTART:20241027T010000
END:STANDARD
BEGIN:DAYLIGHT
TZOFFSETFROM:+0100
TZOFFSETTO:+0200
TZNAME:CEST
DTSTART:20250330T010000
END:DAYLIGHT
BEGIN:STANDARD
TZOFFSETFROM:+0200
TZOFFSETTO:+0100
TZNAME:CET
DTSTART:20251026T010000
END:STANDARD
END:VTIMEZONE
BEGIN:VEVENT
DTSTART;TZID=Europe/Berlin:20240804T160000
DTEND;TZID=Europe/Berlin:20240804T190000
DTSTAMP:20260421T170823
CREATED:20240623T093046Z
LAST-MODIFIED:20240624T054956Z
UID:549-1722787200-1722798000@muenchen-aphasiker-kultur.de
SUMMARY:🎭🎻 Oper Immling "Aida"
DESCRIPTION:Oper Immling\n„Aida“\nOPER IN VIER AKTEN VON\nGIUSEPPE VERDI\nITALIENISCH MIT DEUTSCHE ÜBERTITEL\n\n\n\n\n\nDie Oper “Aida” von Giuseppe Verdi ist zweifellos ein Meisterwerk\, das die Unsterblichkeit der Liebe in den Mittelpunkt stellt. Diese epische Liebesgeschichte zwischen Aida\, der äthiopischen Königstochter\, und Radamès\, dem ägyptischen Heerführer\, fasziniert nicht nur durch ihre emotionale Tiefe\, sondern auch durch ihre kulturelle Vielfalt. \nBild und Text
URL:https://muenchen-aphasiker-kultur.de/event/oper-immling-aida/
LOCATION:Immling Festival\, Immling\, Halfing\, 83128\, Deutschland
CATEGORIES:Oper
END:VEVENT
END:VCALENDAR