BEGIN:VCALENDAR
VERSION:2.0
PRODID:-// - ECPv6.15.20//NONSGML v1.0//EN
CALSCALE:GREGORIAN
METHOD:PUBLISH
X-ORIGINAL-URL:https://muenchen-aphasiker-kultur.de
X-WR-CALDESC:Veranstaltungen für 
REFRESH-INTERVAL;VALUE=DURATION:PT1H
X-Robots-Tag:noindex
X-PUBLISHED-TTL:PT1H
BEGIN:VTIMEZONE
TZID:Europe/Berlin
BEGIN:DAYLIGHT
TZOFFSETFROM:+0100
TZOFFSETTO:+0200
TZNAME:CEST
DTSTART:20230326T010000
END:DAYLIGHT
BEGIN:STANDARD
TZOFFSETFROM:+0200
TZOFFSETTO:+0100
TZNAME:CET
DTSTART:20231029T010000
END:STANDARD
BEGIN:DAYLIGHT
TZOFFSETFROM:+0100
TZOFFSETTO:+0200
TZNAME:CEST
DTSTART:20240331T010000
END:DAYLIGHT
BEGIN:STANDARD
TZOFFSETFROM:+0200
TZOFFSETTO:+0100
TZNAME:CET
DTSTART:20241027T010000
END:STANDARD
BEGIN:DAYLIGHT
TZOFFSETFROM:+0100
TZOFFSETTO:+0200
TZNAME:CEST
DTSTART:20250330T010000
END:DAYLIGHT
BEGIN:STANDARD
TZOFFSETFROM:+0200
TZOFFSETTO:+0100
TZNAME:CET
DTSTART:20251026T010000
END:STANDARD
END:VTIMEZONE
BEGIN:VEVENT
DTSTART;TZID=Europe/Berlin:20240809T190000
DTEND;TZID=Europe/Berlin:20240809T220000
DTSTAMP:20260421T170927
CREATED:20240623T100021Z
LAST-MODIFIED:20240624T055006Z
UID:555-1723230000-1723240800@muenchen-aphasiker-kultur.de
SUMMARY:🎭🎻 Oper Immling "Roméo et Juliette"
DESCRIPTION:Oper Immling\n„Roméo et Juliette“\n\n\n\n\nOPER IN FÜNF AKTEN VON\nCHARLES GOUNOD\nFRANZÖSISCH MIT DEUTSCHE ÜBERTITEL \nWenn schon sterben\, dann im Duett! Anlässlich der Pariser Weltausstellung 1867 erfuhr das bekannteste Liebespaar der Welt noch einmal gebührende Beachtung: Charles Gounod komponierte aus dem Shakespeare-Stoff eine Oper – melodiensatt und sinnlich. Gespickt mit attraktiven Gesangspartien\, nimmt sie auch heute noch einen festen Platz im französischen Repertoire des 19. Jahrhunderts ein. Statt blutrünstigem Ende schließt Gounod „Roméo et Juliette“ mit einem Duett\, in dem sich die Liebenden gemeinsamen in den Tod singen. \nBild und Text
URL:https://muenchen-aphasiker-kultur.de/event/oper-immling-romeo-et-juliette/
LOCATION:Immling Festival\, Immling\, Halfing\, 83128\, Deutschland
CATEGORIES:Oper
END:VEVENT
END:VCALENDAR