BEGIN:VCALENDAR
VERSION:2.0
PRODID:-// - ECPv6.15.20//NONSGML v1.0//EN
CALSCALE:GREGORIAN
METHOD:PUBLISH
X-ORIGINAL-URL:https://muenchen-aphasiker-kultur.de
X-WR-CALDESC:Veranstaltungen für 
REFRESH-INTERVAL;VALUE=DURATION:PT1H
X-Robots-Tag:noindex
X-PUBLISHED-TTL:PT1H
BEGIN:VTIMEZONE
TZID:Europe/Berlin
BEGIN:DAYLIGHT
TZOFFSETFROM:+0100
TZOFFSETTO:+0200
TZNAME:CEST
DTSTART:20230326T010000
END:DAYLIGHT
BEGIN:STANDARD
TZOFFSETFROM:+0200
TZOFFSETTO:+0100
TZNAME:CET
DTSTART:20231029T010000
END:STANDARD
BEGIN:DAYLIGHT
TZOFFSETFROM:+0100
TZOFFSETTO:+0200
TZNAME:CEST
DTSTART:20240331T010000
END:DAYLIGHT
BEGIN:STANDARD
TZOFFSETFROM:+0200
TZOFFSETTO:+0100
TZNAME:CET
DTSTART:20241027T010000
END:STANDARD
BEGIN:DAYLIGHT
TZOFFSETFROM:+0100
TZOFFSETTO:+0200
TZNAME:CEST
DTSTART:20250330T010000
END:DAYLIGHT
BEGIN:STANDARD
TZOFFSETFROM:+0200
TZOFFSETTO:+0100
TZNAME:CET
DTSTART:20251026T010000
END:STANDARD
END:VTIMEZONE
BEGIN:VEVENT
DTSTART;TZID=Europe/Berlin:20241104T170000
DTEND;TZID=Europe/Berlin:20241104T190000
DTSTAMP:20260421T075140
CREATED:20241015T063149Z
LAST-MODIFIED:20241015T063149Z
UID:905-1730739600-1730746800@muenchen-aphasiker-kultur.de
SUMMARY:🎲 Spiele-Abend
DESCRIPTION:🎲 Spiele-Abend\n04. November 2024\n17.00 – 19.00 Uhr\nWir treffen uns um gemeinsam verschiedene Gesellschaftsspiele 👑 zu spielen. 👤😀🗣️ \nOrt\nSelbsthilfezentrum SHZ\nWestendstraße 68\n80339 München \nRaumnutzung\nGruppenraum\nG3 – Dachgeschoss  (2. Obergeschoss)\n12 Personen\nWasser / Tee \nTreffpunkt:\nS-Bahn       Donnersbergerbrücke\n(Arnulfsteg ->  Westendstraße)\n15 min zu Fuß (750m) \nTram          18 / 19 – Schrenkstr.\n5 min zu Fuß (250 m) \nNachher\nEssen 🥗 und trinken 🥤auf der Westendstr.    ->   19.00 Uhr
URL:https://muenchen-aphasiker-kultur.de/event/%f0%9f%8e%b2-spiele-abend/
LOCATION:Gruppenraum G3\, DG\, Westendstr. 68\, München\, 80339\, Germany
CATEGORIES:Spiele
END:VEVENT
END:VCALENDAR