BEGIN:VCALENDAR
VERSION:2.0
PRODID:-// - ECPv6.15.20//NONSGML v1.0//EN
CALSCALE:GREGORIAN
METHOD:PUBLISH
X-ORIGINAL-URL:https://muenchen-aphasiker-kultur.de
X-WR-CALDESC:Veranstaltungen für 
REFRESH-INTERVAL;VALUE=DURATION:PT1H
X-Robots-Tag:noindex
X-PUBLISHED-TTL:PT1H
BEGIN:VTIMEZONE
TZID:Europe/Berlin
BEGIN:DAYLIGHT
TZOFFSETFROM:+0100
TZOFFSETTO:+0200
TZNAME:CEST
DTSTART:20230326T010000
END:DAYLIGHT
BEGIN:STANDARD
TZOFFSETFROM:+0200
TZOFFSETTO:+0100
TZNAME:CET
DTSTART:20231029T010000
END:STANDARD
BEGIN:DAYLIGHT
TZOFFSETFROM:+0100
TZOFFSETTO:+0200
TZNAME:CEST
DTSTART:20240331T010000
END:DAYLIGHT
BEGIN:STANDARD
TZOFFSETFROM:+0200
TZOFFSETTO:+0100
TZNAME:CET
DTSTART:20241027T010000
END:STANDARD
BEGIN:DAYLIGHT
TZOFFSETFROM:+0100
TZOFFSETTO:+0200
TZNAME:CEST
DTSTART:20250330T010000
END:DAYLIGHT
BEGIN:STANDARD
TZOFFSETFROM:+0200
TZOFFSETTO:+0100
TZNAME:CET
DTSTART:20251026T010000
END:STANDARD
END:VTIMEZONE
BEGIN:VEVENT
DTSTART;TZID=Europe/Berlin:20241125T170000
DTEND;TZID=Europe/Berlin:20241125T200000
DTSTAMP:20260421T110835
CREATED:20241018T164014Z
LAST-MODIFIED:20241122T080640Z
UID:911-1732554000-1732564800@muenchen-aphasiker-kultur.de
SUMMARY:🏓 Fun-Sport
DESCRIPTION:Wir gehen in die Fonds Finanz und machen „Sport“. ⚽🎯🏓🎱 \n \nDarts und Fußball-Kicker \n \nTischtennis \n \nBillard \nUnd wir werden Pizzas bestellen. 🍕 \nTreffpunkt:\nU-Bahn      U3\, Olympia-Einkaufszentrum (7 Minuten zu Fuß\, 550 m) \noder \nU-Bahn       U1\, Georg-Brauchle-Ring (9 Minuten zu Fuß\, 700 m) \n \nOlympia-Einkaufszentrum: Ausgang Ecke Pelkovenstr./Oskar-Barnack-Str. \noder \nGeorg-Brauchle-Ring: Ausgang Ecke Gneisenaustr./Hanauer Str. \n\n \nWir werden Dich im Atrium empfangen. 🤗
URL:https://muenchen-aphasiker-kultur.de/event/fun-sport/
LOCATION:Fonds Finanz\, Fun Area\, Riesstr. 25\, München\, 80992\, Germany
CATEGORIES:Fun-Sport
ORGANIZER;CN="Fonds Finanz":MAILTO:https://www.fondsfinanz.de
END:VEVENT
END:VCALENDAR