BEGIN:VCALENDAR
VERSION:2.0
PRODID:-// - ECPv6.15.20//NONSGML v1.0//EN
CALSCALE:GREGORIAN
METHOD:PUBLISH
X-ORIGINAL-URL:https://muenchen-aphasiker-kultur.de
X-WR-CALDESC:Veranstaltungen für 
REFRESH-INTERVAL;VALUE=DURATION:PT1H
X-Robots-Tag:noindex
X-PUBLISHED-TTL:PT1H
BEGIN:VTIMEZONE
TZID:Europe/Berlin
BEGIN:DAYLIGHT
TZOFFSETFROM:+0100
TZOFFSETTO:+0200
TZNAME:CEST
DTSTART:20240331T010000
END:DAYLIGHT
BEGIN:STANDARD
TZOFFSETFROM:+0200
TZOFFSETTO:+0100
TZNAME:CET
DTSTART:20241027T010000
END:STANDARD
BEGIN:DAYLIGHT
TZOFFSETFROM:+0100
TZOFFSETTO:+0200
TZNAME:CEST
DTSTART:20250330T010000
END:DAYLIGHT
BEGIN:STANDARD
TZOFFSETFROM:+0200
TZOFFSETTO:+0100
TZNAME:CET
DTSTART:20251026T010000
END:STANDARD
BEGIN:DAYLIGHT
TZOFFSETFROM:+0100
TZOFFSETTO:+0200
TZNAME:CEST
DTSTART:20260329T010000
END:DAYLIGHT
BEGIN:STANDARD
TZOFFSETFROM:+0200
TZOFFSETTO:+0100
TZNAME:CET
DTSTART:20261025T010000
END:STANDARD
END:VTIMEZONE
BEGIN:VEVENT
DTSTART;TZID=Europe/Berlin:20250501T130000
DTEND;TZID=Europe/Berlin:20250501T150000
DTSTAMP:20260420T235606
CREATED:20250415T063550Z
LAST-MODIFIED:20250422T181515Z
UID:1320-1746104400-1746111600@muenchen-aphasiker-kultur.de
SUMMARY:🎷 Kulturfest 1. Mai
DESCRIPTION:Wir gehen auf den Marienplatz am 1. Mai 2025 (Tag der Arbeit) und hören die Band Tula Troubles. 🎷 \nMusikprogramm \n13:30  – 14.30 Uhr   Tula Troubles (world / ska kollektiv) \nBühne am Marienplatz \nFamilienfest \nauf dem Marienplatz\, in der Kaufinger- und Rosenstraße \n\nInfomarkt 🗣️\nBiergarten 🍻\nKinder gibt es Mitmachaktionen 🎯\n\nEintritt frei \n			\n				\n					\n						\n							\n							Wird geladen …\n						\n					\n					\n						\n							\n							Es dauert zu lange?\n						\n						\n							\n								 Dokument neu laden							\n							|\n							\n								 In einem neuen Tab öffnen							\n					\n				\n			\n		Flyer [10.59 MB]  \nTreffpunkt\nFischbrunnen\, Marienplatz \nS-Bahn S1-S8 \nU-Bahn U3 und U6
URL:https://muenchen-aphasiker-kultur.de/event/kulturfest-1-mai-25/
LOCATION:Marienplatz\, Marienplatz\, München\, 80331\, Germany
CATEGORIES:Konzert
ATTACH;FMTTYPE=image/png:https://muenchen-aphasiker-kultur.de/wp-content/uploads/2025/04/2025-05-01-Familienfest-Musik-1.png
END:VEVENT
END:VCALENDAR