BEGIN:VCALENDAR
VERSION:2.0
PRODID:-// - ECPv6.15.20//NONSGML v1.0//EN
CALSCALE:GREGORIAN
METHOD:PUBLISH
X-ORIGINAL-URL:https://muenchen-aphasiker-kultur.de
X-WR-CALDESC:Veranstaltungen für 
REFRESH-INTERVAL;VALUE=DURATION:PT1H
X-Robots-Tag:noindex
X-PUBLISHED-TTL:PT1H
BEGIN:VTIMEZONE
TZID:Europe/Berlin
BEGIN:DAYLIGHT
TZOFFSETFROM:+0100
TZOFFSETTO:+0200
TZNAME:CEST
DTSTART:20240331T010000
END:DAYLIGHT
BEGIN:STANDARD
TZOFFSETFROM:+0200
TZOFFSETTO:+0100
TZNAME:CET
DTSTART:20241027T010000
END:STANDARD
BEGIN:DAYLIGHT
TZOFFSETFROM:+0100
TZOFFSETTO:+0200
TZNAME:CEST
DTSTART:20250330T010000
END:DAYLIGHT
BEGIN:STANDARD
TZOFFSETFROM:+0200
TZOFFSETTO:+0100
TZNAME:CET
DTSTART:20251026T010000
END:STANDARD
BEGIN:DAYLIGHT
TZOFFSETFROM:+0100
TZOFFSETTO:+0200
TZNAME:CEST
DTSTART:20260329T010000
END:DAYLIGHT
BEGIN:STANDARD
TZOFFSETFROM:+0200
TZOFFSETTO:+0100
TZNAME:CET
DTSTART:20261025T010000
END:STANDARD
END:VTIMEZONE
BEGIN:VEVENT
DTSTART;TZID=Europe/Berlin:20250513T170000
DTEND;TZID=Europe/Berlin:20250513T190000
DTSTAMP:20260420T235650
CREATED:20250415T064026Z
LAST-MODIFIED:20250513T132538Z
UID:1322-1747155600-1747162800@muenchen-aphasiker-kultur.de
SUMMARY:🪔 Museum "NAGA"
DESCRIPTION:„NAGA – Die verschüttete Königsstadt“\n13. Mai 2025\, Dienstag\, 17 – 19 Uhr \n  \nMit Augen 👁️ und Ohren 👂: \nEine archäologische Reise in den Suden. \n„Audio Guide“ 🔈 \n  \nEintritt\nErwachsene  5 € \nErmäßigt (z.B. Schwerbehinderte)  3 € \n  \nÖffnungszeiten\nDienstag\, 10 – 20 Uhr \nStaatliches Museum\nÄgyptischer Kunst\nGabelsbergerstr. 35 \nNAGA | SMÄK \n  \nTreffpunkt\nDAVOR im Shopcafè im Ägyptische Museum \n\nHauptbahnhof 🚈 S-Bahn ->\n🚇 U-Bahn U2 -> Königsplatz\nHauptbahnhof 🚈 S-Bahn ->\n🚍 Bus 100\n🚍 Bus 58 CityRing  -> Pinakotheken\nKarlsplatz 🚈 S-Bahn ->\n🚋 Trambahn 27\, 28 -> Karolinenplatz\n6 min zu Fuß 🚶‍♂️‍➡️
URL:https://muenchen-aphasiker-kultur.de/event/ausstellungen-naga-130525/
LOCATION:Staatliches Museum Ägyptischer Kunst\, Gabelsbergerstraße 35\, München\, 80333\, Germany
CATEGORIES:Aufstellung
ATTACH;FMTTYPE=image/png:https://muenchen-aphasiker-kultur.de/wp-content/uploads/2025/04/2025-04-24-NAGA-e1745520523557.png
END:VEVENT
END:VCALENDAR