BEGIN:VCALENDAR
VERSION:2.0
PRODID:-// - ECPv6.15.20//NONSGML v1.0//EN
CALSCALE:GREGORIAN
METHOD:PUBLISH
X-ORIGINAL-URL:https://muenchen-aphasiker-kultur.de
X-WR-CALDESC:Veranstaltungen für 
REFRESH-INTERVAL;VALUE=DURATION:PT1H
X-Robots-Tag:noindex
X-PUBLISHED-TTL:PT1H
BEGIN:VTIMEZONE
TZID:Europe/Berlin
BEGIN:DAYLIGHT
TZOFFSETFROM:+0100
TZOFFSETTO:+0200
TZNAME:CEST
DTSTART:20240331T010000
END:DAYLIGHT
BEGIN:STANDARD
TZOFFSETFROM:+0200
TZOFFSETTO:+0100
TZNAME:CET
DTSTART:20241027T010000
END:STANDARD
BEGIN:DAYLIGHT
TZOFFSETFROM:+0100
TZOFFSETTO:+0200
TZNAME:CEST
DTSTART:20250330T010000
END:DAYLIGHT
BEGIN:STANDARD
TZOFFSETFROM:+0200
TZOFFSETTO:+0100
TZNAME:CET
DTSTART:20251026T010000
END:STANDARD
BEGIN:DAYLIGHT
TZOFFSETFROM:+0100
TZOFFSETTO:+0200
TZNAME:CEST
DTSTART:20260329T010000
END:DAYLIGHT
BEGIN:STANDARD
TZOFFSETFROM:+0200
TZOFFSETTO:+0100
TZNAME:CET
DTSTART:20261025T010000
END:STANDARD
END:VTIMEZONE
BEGIN:VEVENT
DTSTART;TZID=Europe/Berlin:20250825T170000
DTEND;TZID=Europe/Berlin:20250825T190000
DTSTAMP:20260420T211055
CREATED:20250515T150703Z
LAST-MODIFIED:20250805T171804Z
UID:1534-1756141200-1756148400@muenchen-aphasiker-kultur.de
SUMMARY:🌳 Spaziergang im Englischen Garten
DESCRIPTION:Wir gehen spazieren von den Hofgarten ⛲️ nach dem Chinesische Turm 🏯 und in den Biergarten 🍻. \nSpaziergang\nDer Englischer Garten ist München größten Park.🌳🌿 \nHier locken unter anderem der berühmte Monopteros 🧘‍♀️und der Chinesische Turm 🎎🗣️ \n \nDer Spaziergang – also von den Hofgarten ⛲️ nach dem Chinesische Turm 🏯 – beträgt 30 ~ 45 Minuten. \nBiergarten\nSchönes Biergarten 🎠 am Chinesischen Turm mit Selbstbedienung🍻🥨🥕🧀 \nTreffpunkt\nTaxistand Odeonsplatz \n🚇 U-Bahn U3/U4/U5/U6\nZugang zu Haltestelle\nOdeonsplatz/Residenzstraße
URL:https://muenchen-aphasiker-kultur.de/event/englischer-garten-250825/
LOCATION:Chinesischer Turm\, Englischer Garten 3\, München\, 80538\, Germany
CATEGORIES:Biergarten,Spaziergang
ATTACH;FMTTYPE=image/jpeg:https://muenchen-aphasiker-kultur.de/wp-content/uploads/2025/05/320px-Chinesischer_Turm_064.jpg
END:VEVENT
END:VCALENDAR