BEGIN:VCALENDAR
VERSION:2.0
PRODID:-// - ECPv6.15.20//NONSGML v1.0//EN
CALSCALE:GREGORIAN
METHOD:PUBLISH
X-ORIGINAL-URL:https://muenchen-aphasiker-kultur.de
X-WR-CALDESC:Veranstaltungen für 
REFRESH-INTERVAL;VALUE=DURATION:PT1H
X-Robots-Tag:noindex
X-PUBLISHED-TTL:PT1H
BEGIN:VTIMEZONE
TZID:Europe/Berlin
BEGIN:DAYLIGHT
TZOFFSETFROM:+0100
TZOFFSETTO:+0200
TZNAME:CEST
DTSTART:20240331T010000
END:DAYLIGHT
BEGIN:STANDARD
TZOFFSETFROM:+0200
TZOFFSETTO:+0100
TZNAME:CET
DTSTART:20241027T010000
END:STANDARD
BEGIN:DAYLIGHT
TZOFFSETFROM:+0100
TZOFFSETTO:+0200
TZNAME:CEST
DTSTART:20250330T010000
END:DAYLIGHT
BEGIN:STANDARD
TZOFFSETFROM:+0200
TZOFFSETTO:+0100
TZNAME:CET
DTSTART:20251026T010000
END:STANDARD
BEGIN:DAYLIGHT
TZOFFSETFROM:+0100
TZOFFSETTO:+0200
TZNAME:CEST
DTSTART:20260329T010000
END:DAYLIGHT
BEGIN:STANDARD
TZOFFSETFROM:+0200
TZOFFSETTO:+0100
TZNAME:CET
DTSTART:20261025T010000
END:STANDARD
END:VTIMEZONE
BEGIN:VEVENT
DTSTART;TZID=Europe/Berlin:20251104T170000
DTEND;TZID=Europe/Berlin:20251104T190000
DTSTAMP:20260420T161420
CREATED:20250830T061203Z
LAST-MODIFIED:20251012T051309Z
UID:1859-1762275600-1762282800@muenchen-aphasiker-kultur.de
SUMMARY:🖼️ Ausstellung "DIGITAL BY NATURE"
DESCRIPTION:Wir werden in den Ausstellungen „DIGITAL BY NATURE – Die Kunst von Miguel Chevalier“ in den Kunsthalle München besuchen. 🖼️ \nwww.kunsthalle-muc.de \n\n🎧 Eigene Kopfhörer\n \nZur Ausstellung gibt es eine kostenlose Audio-Tour (de/en). Diese ist von Zuhause sowie in der Ausstellung mit eigenem mobilen Endgerät abrufbar. Bitte bringst Du daher zu Deinem Ausstellungsbesuch eigene Kopfhörer mit. \n\n🍝 Essen\nVielleicht in den Fünf Höfe\, z.B. Vapiano (🇮🇹 italienisch) oder KAIMUG (🇹🇭 Thai) \n  \n📌 Treffpunkt\n🖼️ Kunsthalle München\nTheatinerstraße 8 \n🚊 S-Bahn Marienplatz S1-S8\n🚇 U-Bahn Marienplatz U3/U6 oder Odeonsplatz U3/U4/U5/U6\n🚋 Tram Theatinerstraße 19/21
URL:https://muenchen-aphasiker-kultur.de/event/ausstellung-digital-by-nature-041125/
LOCATION:Kunsthalle München\, Theatinerstraße 8\, München\, Bayern\, 80333\, Germany
CATEGORIES:Aufstellung
ATTACH;FMTTYPE=image/png:https://muenchen-aphasiker-kultur.de/wp-content/uploads/2025/08/Ausstellung-Digital-by-Nature-e1756617546828.png
END:VEVENT
END:VCALENDAR