BEGIN:VCALENDAR
VERSION:2.0
PRODID:-// - ECPv6.15.20//NONSGML v1.0//EN
CALSCALE:GREGORIAN
METHOD:PUBLISH
X-ORIGINAL-URL:https://muenchen-aphasiker-kultur.de
X-WR-CALDESC:Veranstaltungen für 
REFRESH-INTERVAL;VALUE=DURATION:PT1H
X-Robots-Tag:noindex
X-PUBLISHED-TTL:PT1H
BEGIN:VTIMEZONE
TZID:Europe/Berlin
BEGIN:DAYLIGHT
TZOFFSETFROM:+0100
TZOFFSETTO:+0200
TZNAME:CEST
DTSTART:20250330T010000
END:DAYLIGHT
BEGIN:STANDARD
TZOFFSETFROM:+0200
TZOFFSETTO:+0100
TZNAME:CET
DTSTART:20251026T010000
END:STANDARD
BEGIN:DAYLIGHT
TZOFFSETFROM:+0100
TZOFFSETTO:+0200
TZNAME:CEST
DTSTART:20260329T010000
END:DAYLIGHT
BEGIN:STANDARD
TZOFFSETFROM:+0200
TZOFFSETTO:+0100
TZNAME:CET
DTSTART:20261025T010000
END:STANDARD
BEGIN:DAYLIGHT
TZOFFSETFROM:+0100
TZOFFSETTO:+0200
TZNAME:CEST
DTSTART:20270328T010000
END:DAYLIGHT
BEGIN:STANDARD
TZOFFSETFROM:+0200
TZOFFSETTO:+0100
TZNAME:CET
DTSTART:20271031T010000
END:STANDARD
END:VTIMEZONE
BEGIN:VEVENT
DTSTART;TZID=Europe/Berlin:20260312T160000
DTEND;TZID=Europe/Berlin:20260312T180000
DTSTAMP:20260420T093208
CREATED:20251127T170921Z
LAST-MODIFIED:20260218T094231Z
UID:2079-1773331200-1773338400@muenchen-aphasiker-kultur.de
SUMMARY:🗡️ Museum „Gladiatoren“
DESCRIPTION:Wir gehen in das Museum „Gladiatoren – Helden des Kolosseums“ 🗡️⚔️🛡️🏺 ⏳🏛️🗣️ \nEintritt\n\nErwachsene  8 €\nErmäßigt        5 € (Ermäßigten Eintritt für die Sonderausstellung über 65 Jahre und Schwerbehinderte)\n\nTreffpunkt\nLerchenfeldstraße 2 \nArchäologische Staatssammlung\n80538 München \nVerkehrsmittel\n\nEntweder „Odeonsplatz“ 🚇 U-Bahn U3/U4/U5/U6\nOdeonsplatz 🚍  Bus 100 (Museumlinie)\nNationalmuseum / Haus der Kunst\nca. 8 min zu Fuß\noder „Lehel“ U-Bahn U4/U5 🚇\nca. 9 min zu Fuß (650m)\noder „Lehel“ U-Bahn U4/U5 🚇\nTram 16 🚊(2 min)\nNationalmuseum / Haus der Kunst\nca. 3 min zu Fuß
URL:https://muenchen-aphasiker-kultur.de/event/aufstellung-gladiatoren-260113/
LOCATION:Archäologische  Staatssammlung\, Lerchenfeldstraße 2\, München\, 80538
CATEGORIES:Aufstellung
ATTACH;FMTTYPE=image/webp:https://muenchen-aphasiker-kultur.de/wp-content/uploads/2025/11/csm_gladiatoren_plakat_ec19f3a47a-e1771317996820.webp
END:VEVENT
END:VCALENDAR