BEGIN:VCALENDAR
VERSION:2.0
PRODID:-// - ECPv6.15.20//NONSGML v1.0//EN
CALSCALE:GREGORIAN
METHOD:PUBLISH
X-ORIGINAL-URL:https://muenchen-aphasiker-kultur.de
X-WR-CALDESC:Veranstaltungen für 
REFRESH-INTERVAL;VALUE=DURATION:PT1H
X-Robots-Tag:noindex
X-PUBLISHED-TTL:PT1H
BEGIN:VTIMEZONE
TZID:Europe/Berlin
BEGIN:DAYLIGHT
TZOFFSETFROM:+0100
TZOFFSETTO:+0200
TZNAME:CEST
DTSTART:20230326T010000
END:DAYLIGHT
BEGIN:STANDARD
TZOFFSETFROM:+0200
TZOFFSETTO:+0100
TZNAME:CET
DTSTART:20231029T010000
END:STANDARD
BEGIN:DAYLIGHT
TZOFFSETFROM:+0100
TZOFFSETTO:+0200
TZNAME:CEST
DTSTART:20240331T010000
END:DAYLIGHT
BEGIN:STANDARD
TZOFFSETFROM:+0200
TZOFFSETTO:+0100
TZNAME:CET
DTSTART:20241027T010000
END:STANDARD
BEGIN:DAYLIGHT
TZOFFSETFROM:+0100
TZOFFSETTO:+0200
TZNAME:CEST
DTSTART:20250330T010000
END:DAYLIGHT
BEGIN:STANDARD
TZOFFSETFROM:+0200
TZOFFSETTO:+0100
TZNAME:CET
DTSTART:20251026T010000
END:STANDARD
END:VTIMEZONE
BEGIN:VEVENT
DTSTART;TZID=Europe/Berlin:20240606T150000
DTEND;TZID=Europe/Berlin:20240606T160000
DTSTAMP:20260421T185948
CREATED:20240601T074432Z
LAST-MODIFIED:20240908T071454Z
UID:131-1717686000-1717689600@muenchen-aphasiker-kultur.de
SUMMARY:✨ Gründung: Die Gruppe mAks stellt sich vor
DESCRIPTION:mAks lädt ein!\nWir freuen uns\, euch zur Gründung unserer Gruppe mAks „München Aphasiker Kultur Selbsthilfe“ einzuladen. Dort werdet ihr alles zu unserem Konzept erfahren. \nWann?\nDonnerstag\, 06.06.2024\num 15 Uhr \nWo?\nSprachtherapie Amberg\nBunzlauer Str. 40\n80992 München \nWir freuen uns auf euch\,\nKlaus Feldmeier & Jürgen Rudolph
URL:https://muenchen-aphasiker-kultur.de/event/131/
LOCATION:Sprachtherapie Amberg\, Bunzlauer Str. 40\, 80992 München\, München\, 80992\, Deutschland
CATEGORIES:Gründung
END:VEVENT
BEGIN:VEVENT
DTSTART;TZID=Europe/Berlin:20240606T180000
DTEND;TZID=Europe/Berlin:20240606T200000
DTSTAMP:20260421T185948
CREATED:20240529T011343Z
LAST-MODIFIED:20240604T133957Z
UID:50-1717696800-1717704000@muenchen-aphasiker-kultur.de
SUMMARY:🎭 Theater: "Wie geht's\, wie steht's"
DESCRIPTION:Die Komponisten Andreas Eduardo Frank und Patrick Frank gehen in den Wirtschaftsmetropolen München und Basel auf die Suche nach dem Glück. In welchem Verhältnis steht das gemeinschaftliche Glück zum Unglück Einzelner? Kann man den Weg zum Glück mit anderen teilen? Die beiden Franks laden das Publikum zum musikalischen Glücksforum ins Foyer des Gasteig ein. Auf der Reise durch die Körperzentren Herz\, Hirn und Darm stellt die dreiteilige Performance unterschiedliche Glückskonzepte zur Debatte. Publikum und Performende begegnen sich in einem Kaleidoskop aus konzertanten Mini-Formaten\, musiktheatralen Aktionen\, intimen Gesprächszirkeln und kulinarischen Kunstpausen. Gesellschaftsphilosophische Theorien treffen auf intime Geschichten und ganz persönliche Glücksdefinitionen. Hier kommen Glücksforscher und Extremsportlerinnen ebenso zu Wort wie Würmer\, Nietzsche\, Ghandi\, du und ich. \nDie unterschiedlichen Handschriften der beiden Komponisten in der Inszenierung von Georg Schütky bilden die Grundlage eines vielstimmigen Gemeinschaftskunstwerks unter Mitwirkung des Ensemble Lemniscate\, Opernsänger:innen\, professionellen und nicht-professionellen Performer:innen sowie dem via-nova-chor. Es entsteht ein Ort des gemeinsamen Verweilens\, Genießens und Sinnierens über die Frage aller Fragen: was ist das\, das sogenannte Glück? \nKomposition: Andreas Eduardo Frank\, Patrick Frank \nRegie: Georg Schütky\nMusikalische Leitung (Ensemble Lemniscate): Daniel Moreira\nBühne: Camille Daur\nKostüme: Wieland Lemke\nDramaturgie: Meret Kündig\, Roman Reeger\nProduktionsleitung: Anna Crespo Palomar\nProduktionsleitung Münchener Biennale: Katharina Böhler\nRegieassistenz: Lena Elsa Chalupka\nKostümassistenz: Yumi Ferretti\nSchauspielcoach: Gregor Schleuning*
URL:https://muenchen-aphasiker-kultur.de/event/theater-wies-gehts-wie-stehts/
LOCATION:FAT CAT\, Foyer Philharmonie\, Rosenheimer Str. 5\, München\, 81667\, Deutschland
CATEGORIES:Theater
END:VEVENT
BEGIN:VEVENT
DTSTART;TZID=Europe/Berlin:20240624T170000
DTEND;TZID=Europe/Berlin:20240624T190000
DTSTAMP:20260421T185948
CREATED:20240601T124834Z
LAST-MODIFIED:20251123T122152Z
UID:222-1719248400-1719255600@muenchen-aphasiker-kultur.de
SUMMARY:🥨 Street Food: Tollwood
DESCRIPTION:ZUSAMMEN:HALT!\nso lautet das aktuelle Motto\nZusammenhalt ist wichtiger denn je. Lasst uns gemeinsam „Halt“ sagen zu Hass und Extremismus – und zusammenhalten für unsere Werte\, die Demokratie und\nfür unseren Planeten. Lasst uns ins Gespräch kommen. Lasst uns zusammenhalten! \nFür 32 Tage im Sommer lädt das Tollwood Festival Musik-Fans\, Kulturinteressierte und Flaneure in den Olympiapark ein. Vor der Kulisse des bunten  „Marktes der Ideen“ treffen sich auf dem Festivalgelände faszinierende Theater- und Performances-Gruppen\, aus den Zelten dringt Live-Musik aus der ganzen Welt. \nDer Markt mit Kunsthandwerk und Bio-Gastronomie aller Kontinente und viele Orte\, an denen die Besucher selbst aktiv werden können\, laden zum Verweilen und Genießen ein. Dabei finden über 80 Prozent aller Veranstaltungen bei freiem Eintritt statt. \nPlan für die Gastronomie
URL:https://muenchen-aphasiker-kultur.de/event/street-food-toolwood/
LOCATION:Tollwood\, Olympiaberg\, Bushaltestelle 144\, München\, 80809
CATEGORIES:Streetfood
END:VEVENT
END:VCALENDAR