BEGIN:VCALENDAR
VERSION:2.0
PRODID:-// - ECPv6.15.20//NONSGML v1.0//EN
CALSCALE:GREGORIAN
METHOD:PUBLISH
X-ORIGINAL-URL:https://muenchen-aphasiker-kultur.de
X-WR-CALDESC:Veranstaltungen für 
REFRESH-INTERVAL;VALUE=DURATION:PT1H
X-Robots-Tag:noindex
X-PUBLISHED-TTL:PT1H
BEGIN:VTIMEZONE
TZID:Europe/Berlin
BEGIN:DAYLIGHT
TZOFFSETFROM:+0100
TZOFFSETTO:+0200
TZNAME:CEST
DTSTART:20230326T010000
END:DAYLIGHT
BEGIN:STANDARD
TZOFFSETFROM:+0200
TZOFFSETTO:+0100
TZNAME:CET
DTSTART:20231029T010000
END:STANDARD
BEGIN:DAYLIGHT
TZOFFSETFROM:+0100
TZOFFSETTO:+0200
TZNAME:CEST
DTSTART:20240331T010000
END:DAYLIGHT
BEGIN:STANDARD
TZOFFSETFROM:+0200
TZOFFSETTO:+0100
TZNAME:CET
DTSTART:20241027T010000
END:STANDARD
BEGIN:DAYLIGHT
TZOFFSETFROM:+0100
TZOFFSETTO:+0200
TZNAME:CEST
DTSTART:20250330T010000
END:DAYLIGHT
BEGIN:STANDARD
TZOFFSETFROM:+0200
TZOFFSETTO:+0100
TZNAME:CET
DTSTART:20251026T010000
END:STANDARD
END:VTIMEZONE
BEGIN:VEVENT
DTSTART;TZID=Europe/Berlin:20240711T190000
DTEND;TZID=Europe/Berlin:20240711T220000
DTSTAMP:20260421T172026
CREATED:20240601T135241Z
LAST-MODIFIED:20240702T085816Z
UID:231-1720724400-1720735200@muenchen-aphasiker-kultur.de
SUMMARY:🎷 Konzert: Tula Troubles & La Fanfarria del Captain
DESCRIPTION:Zwei Bands!\n\nTula Troubles\nTulaTroubles präsentieren ihr umfangreiches\, sehr tanzbares Genre\, das sie Chanson-Ska nennen – eine Verschmelzung von Ska und Reggae mit den Genres von Rock bis Balkan\, von Latin über orientalisch bis hin zu romantischen französischen Songs. Die acht Musiker stammen aus aller Welt. Was sie vereint\, ist ihre Liebe zur Musik und ihr Traum von einer besseren Welt – und das in einzigartige\, tanzbare Rhythmen und Melodien umgesetzt. \nLa Fanfarria del Capitán\n\n\nLa Fanfarria del Capitán ist eine argentinische Musiker-Abenteurer-Band. Sie wurde 2005 von Freunden gegründet\, die 2011 beschlossen\, dass das Reisen und Musizieren ihre Inspiration\, ihre Kunst und ihre Lebensweise ist. Ihre Musik ist eklektisch\, eine besondere Mischung aus lateinamerikanischen Rhythmen\, Folk\, balkanischen Melodien\, Rock\, Ska\, Reggae… Leidenschaft\, Energie\, Kraft und eine Pandora-Box voller Überraschungen\, eine neu aufgeladene Rockversion des World Folk. Seitdem sind sie durch Europa\, Asien und Südamerika gereist\, haben 80 Konzerte gespielt und 20.000 km pro Jahr zurückgelegt\, haben auf Hunderten von Weltmusikfestivals und in Konzertsälen gespielt. \n\nZwei Lieder aus der Netflix-Serie „Haus der Geldes“\n– Bella Ciao https://www.youtube.com/watch?v=GribZtF-pBo\n-Helsinki\, Nairobi & La Fanfarria del Capitan – MONEY HEIST (LA CASA DE PAPEL)\nhttps://www.youtube.com/watch?v=I1pYcxY1nIY\n 
URL:https://muenchen-aphasiker-kultur.de/event/konzert-tula-troubles-la-fanfarria-del-captain/
LOCATION:Import Export\, Schwere-Reiter-Str. 2h\, München\, 80636
CATEGORIES:Konzert
ATTACH;FMTTYPE=image/jpeg:https://muenchen-aphasiker-kultur.de/wp-content/uploads/2024/06/TulaTroubles-09427-1200x800-1.jpg
END:VEVENT
BEGIN:VEVENT
DTSTART;TZID=Europe/Berlin:20240729T171500
DTEND;TZID=Europe/Berlin:20240729T194500
DTSTAMP:20260421T172026
CREATED:20240621T135829Z
LAST-MODIFIED:20240725T184620Z
UID:540-1722273300-1722282300@muenchen-aphasiker-kultur.de
SUMMARY:📽 Kino "Zwei zu Eins"
DESCRIPTION:Eine Filmkomödie auf realen Begebenheit spielen Sandra Hüller\, Max Riemelt und Ronald Zehrfeld Freunde\, die 1990 versuchen\, ihre gefundenen DDR-Millionen in Westmark umzutauschen. \n \nInhalt des X-Verleih: Website \nTreffpunkt\n\nUm 16:40 Uhr treffen wir die Aphasiker\, die NICHT sich gut auskennen\, am Westlichen Gleis von der S-Bahn am Karlsplatz (Stachus).\n\nUm 17:00 Uhr treffen wir gemeinsam an der Kasse am Kino im 1. Stock.\n\n 
URL:https://muenchen-aphasiker-kultur.de/event/kino-zwei-zu-eins/
LOCATION:Mathäser Filmpalast\, Mathäser Filmpalast\, Bayerstraße 3-5\, 80335 München\, München\, 80335\, Deutschland
CATEGORIES:Kino
END:VEVENT
END:VCALENDAR