BEGIN:VCALENDAR
VERSION:2.0
PRODID:-// - ECPv6.15.20//NONSGML v1.0//EN
CALSCALE:GREGORIAN
METHOD:PUBLISH
X-ORIGINAL-URL:https://muenchen-aphasiker-kultur.de
X-WR-CALDESC:Veranstaltungen für 
REFRESH-INTERVAL;VALUE=DURATION:PT1H
X-Robots-Tag:noindex
X-PUBLISHED-TTL:PT1H
BEGIN:VTIMEZONE
TZID:Europe/Berlin
BEGIN:DAYLIGHT
TZOFFSETFROM:+0100
TZOFFSETTO:+0200
TZNAME:CEST
DTSTART:20230326T010000
END:DAYLIGHT
BEGIN:STANDARD
TZOFFSETFROM:+0200
TZOFFSETTO:+0100
TZNAME:CET
DTSTART:20231029T010000
END:STANDARD
BEGIN:DAYLIGHT
TZOFFSETFROM:+0100
TZOFFSETTO:+0200
TZNAME:CEST
DTSTART:20240331T010000
END:DAYLIGHT
BEGIN:STANDARD
TZOFFSETFROM:+0200
TZOFFSETTO:+0100
TZNAME:CET
DTSTART:20241027T010000
END:STANDARD
BEGIN:DAYLIGHT
TZOFFSETFROM:+0100
TZOFFSETTO:+0200
TZNAME:CEST
DTSTART:20250330T010000
END:DAYLIGHT
BEGIN:STANDARD
TZOFFSETFROM:+0200
TZOFFSETTO:+0100
TZNAME:CET
DTSTART:20251026T010000
END:STANDARD
END:VTIMEZONE
BEGIN:VEVENT
DTSTART;TZID=Europe/Berlin:20241021T163000
DTEND;TZID=Europe/Berlin:20241021T180000
DTSTAMP:20260421T124145
CREATED:20240916T143350Z
LAST-MODIFIED:20241014T142619Z
UID:859-1729528200-1729533600@muenchen-aphasiker-kultur.de
SUMMARY:🎈 Street Art: HOUSE OF BANKSY
DESCRIPTION:🎈 Street Art: HOUSE OF BANKSY\nWir gehen in die Ausstellung (und danach essen). \nhttps://house-of-banksy.com/\nhttps://de.wikipedia.org/wiki/Banksy \n21. Oktober 2024 (Montag) \nBeginn:  16.30 Uhr\n(Letzter Einlass: 18 Uhr) \nNormal: 18 €\nErmäßigt (Schwerbehinderten): 14 € \n18.00 Uhr – Essen \nÖffentliche Verkehrsmittel\nS-Bahn / U-Bahn / Trambahn Karlsplatz (Stachus)
URL:https://muenchen-aphasiker-kultur.de/event/street-art-house-of-banksy/
LOCATION:House of Bansky\, Karlsplatz 21-24\, 1. UG\, 80335\, 80335\, Germany
CATEGORIES:Aufstellung,StreetArt
ATTACH;FMTTYPE=image/jpeg:https://muenchen-aphasiker-kultur.de/wp-content/uploads/2024/09/House-of-Banksy-Muenchen.jpg
END:VEVENT
END:VCALENDAR