BEGIN:VCALENDAR
VERSION:2.0
PRODID:-// - ECPv6.15.20//NONSGML v1.0//EN
CALSCALE:GREGORIAN
METHOD:PUBLISH
X-ORIGINAL-URL:https://muenchen-aphasiker-kultur.de
X-WR-CALDESC:Veranstaltungen für 
REFRESH-INTERVAL;VALUE=DURATION:PT1H
X-Robots-Tag:noindex
X-PUBLISHED-TTL:PT1H
BEGIN:VTIMEZONE
TZID:Europe/Berlin
BEGIN:DAYLIGHT
TZOFFSETFROM:+0100
TZOFFSETTO:+0200
TZNAME:CEST
DTSTART:20240331T010000
END:DAYLIGHT
BEGIN:STANDARD
TZOFFSETFROM:+0200
TZOFFSETTO:+0100
TZNAME:CET
DTSTART:20241027T010000
END:STANDARD
BEGIN:DAYLIGHT
TZOFFSETFROM:+0100
TZOFFSETTO:+0200
TZNAME:CEST
DTSTART:20250330T010000
END:DAYLIGHT
BEGIN:STANDARD
TZOFFSETFROM:+0200
TZOFFSETTO:+0100
TZNAME:CET
DTSTART:20251026T010000
END:STANDARD
BEGIN:DAYLIGHT
TZOFFSETFROM:+0100
TZOFFSETTO:+0200
TZNAME:CEST
DTSTART:20260329T010000
END:DAYLIGHT
BEGIN:STANDARD
TZOFFSETFROM:+0200
TZOFFSETTO:+0100
TZNAME:CET
DTSTART:20261025T010000
END:STANDARD
END:VTIMEZONE
BEGIN:VEVENT
DTSTART;TZID=Europe/Berlin:20250415T171500
DTEND;TZID=Europe/Berlin:20250415T203000
DTSTAMP:20260420T235622
CREATED:20250404T070822Z
LAST-MODIFIED:20250407T180658Z
UID:1235-1744737300-1744749000@muenchen-aphasiker-kultur.de
SUMMARY:🎬 Kino "Köln 75"
DESCRIPTION:Wir gehen ins Kino 🎞️🗣️🙋‍♀️🤦‍♀️👤 und danach essen 🍝🍺. \nDer Film\n🎬 Kino: „Köln 75″ \n15.04.2025\, 17:30 Uhr (Vorstellung) \n \nDer Ort\nWir treffen 15 Minuten vorher (also 17:15 Uhr) in Foyer. \nRio Filmpalast\nRosenheimer Str. 46\n(Rio)🍿🥤 \nKarlsplatz (Stachus)\nS-Bahn 🚊\nTram 🚋 \nDanach Essen 🍝🍺
URL:https://muenchen-aphasiker-kultur.de/event/kino-koeln-75/
LOCATION:Rio Filmpalast\, Rosenheimer Straße 46\, München\, Bayern\, 81669\, Germany
CATEGORIES:Kino
ATTACH;FMTTYPE=image/jpeg:https://muenchen-aphasiker-kultur.de/wp-content/uploads/2025/04/koeln-75.jpg
END:VEVENT
BEGIN:VEVENT
DTSTART;TZID=Europe/Berlin:20250428T170000
DTEND;TZID=Europe/Berlin:20250428T190000
DTSTAMP:20260420T235622
CREATED:20250415T063316Z
LAST-MODIFIED:20250421T113701Z
UID:1318-1745859600-1745866800@muenchen-aphasiker-kultur.de
SUMMARY:🎠 Auer Dult
DESCRIPTION:Wir gehen auf die Auer Dult und feiern.🗣️😃\nDas bietet die Maidult:\nGeschirrmarkt 🥣\, Kunsthandwerk 🪞\, Warenverkauf 🪮 und Karussells 🎡. \nEssen und Trinken\n🥨 Schmankerl von deftig 🍗 bis süß 🍭. \nTreffpunkt\nMariahilfplatz\nWir gehen in dem Bus 52\, Mariahilfplatz. \n \n\nMariahilfplatz\nBus 52 / Tram 18\n\n  \n\nSchweigerstraße\nBus 52 / 62\n(Bus 62 – S-Bahn Ostbahnhof\nBus 62 – 5 Stationen)\n\n  \n\nU-Bahn U1 / U2\nKolumbusplatz \n-> Bus 52 (3 min)\nFraunhoferstraße\n-> Tram 18 (3 min)
URL:https://muenchen-aphasiker-kultur.de/event/auer-dult-04-25/
LOCATION:Privat: Auer Dult\, Mariahilfplatz\, München\, 81541\, Germany
CATEGORIES:Frühlingsfest
ATTACH;FMTTYPE=image/jpeg:https://muenchen-aphasiker-kultur.de/wp-content/uploads/2025/04/Auerdult-e1745235053467.jpg
END:VEVENT
END:VCALENDAR