BEGIN:VCALENDAR
VERSION:2.0
PRODID:-// - ECPv6.15.20//NONSGML v1.0//EN
CALSCALE:GREGORIAN
METHOD:PUBLISH
X-ORIGINAL-URL:https://muenchen-aphasiker-kultur.de
X-WR-CALDESC:Veranstaltungen für 
REFRESH-INTERVAL;VALUE=DURATION:PT1H
X-Robots-Tag:noindex
X-PUBLISHED-TTL:PT1H
BEGIN:VTIMEZONE
TZID:Europe/Berlin
BEGIN:DAYLIGHT
TZOFFSETFROM:+0100
TZOFFSETTO:+0200
TZNAME:CEST
DTSTART:20240331T010000
END:DAYLIGHT
BEGIN:STANDARD
TZOFFSETFROM:+0200
TZOFFSETTO:+0100
TZNAME:CET
DTSTART:20241027T010000
END:STANDARD
BEGIN:DAYLIGHT
TZOFFSETFROM:+0100
TZOFFSETTO:+0200
TZNAME:CEST
DTSTART:20250330T010000
END:DAYLIGHT
BEGIN:STANDARD
TZOFFSETFROM:+0200
TZOFFSETTO:+0100
TZNAME:CET
DTSTART:20251026T010000
END:STANDARD
BEGIN:DAYLIGHT
TZOFFSETFROM:+0100
TZOFFSETTO:+0200
TZNAME:CEST
DTSTART:20260329T010000
END:DAYLIGHT
BEGIN:STANDARD
TZOFFSETFROM:+0200
TZOFFSETTO:+0100
TZNAME:CET
DTSTART:20261025T010000
END:STANDARD
END:VTIMEZONE
BEGIN:VEVENT
DTSTART;TZID=Europe/Berlin:20250617T170000
DTEND;TZID=Europe/Berlin:20250617T190000
DTSTAMP:20260420T224844
CREATED:20250424T124447Z
LAST-MODIFIED:20250519T093146Z
UID:1375-1750179600-1750186800@muenchen-aphasiker-kultur.de
SUMMARY:⛳ Minigolf
DESCRIPTION:Wir werden im Olympiapark Minigolf ⛳ spielen und Essen 🍕 gehen. \nMinigolf: Website \nTreffpunkt\n17 Uhr   Olympiazentrum \n\n🚇 U-Bahn U3 / U6\n12 Minuten zu Fuß (750 m)\n=> Minigolf Olympiapark ⛳\n\n\nEssen und Trinken\nca. 19 Uhr \nPizza Hut 🍕 \nLerchenauer Str. 42 \n80809 München
URL:https://muenchen-aphasiker-kultur.de/event/minigolf-170625/
LOCATION:Minigolf Olympiapark\, Minigolf Olympiapark\, Spiridon-Louis-Ring 22\, München\, 80809\, Deutschland
CATEGORIES:Minigolf
ATTACH;FMTTYPE=image/png:https://muenchen-aphasiker-kultur.de/wp-content/uploads/2025/05/Minigolf-Olympiapark-e1747643894830.png
END:VEVENT
BEGIN:VEVENT
DTSTART;TZID=Europe/Berlin:20250630T170000
DTEND;TZID=Europe/Berlin:20250630T190000
DTSTAMP:20260420T224844
CREATED:20250424T125005Z
LAST-MODIFIED:20250527T191044Z
UID:1377-1751302800-1751310000@muenchen-aphasiker-kultur.de
SUMMARY:🌯 Tollwood Sommerfestival
DESCRIPTION:Wir gehen auf das Tollwood Sommerfestival. 🌯🎶🤗 \nKonzerte\nAuf Tollwood spielt die Live-Musik ! 🎤🎹🪗 \nDoch auf den verschiedenen kleineren Bühnen. 🗣️🎺🎷 \nTäglich gibt es im mehrere Konzerte bei freiem Eintritt statt. 🫵🗣️👤 \nPerformance\, Theater und Artistik zum Staunen und Lachen.  🎭🎼🤹‍♀️ \nMarkt der Ideen 🎎🪭🎏\nVon deftig-würzig bis exotisch-süß die Tollwood Gastronomie ist so vielfältig wie das Festival selbst (siehe Karte). 🥙🌮🌭🍕🍔 \nBierKULTUR\nBier ist mehr als ein Getränk – es ist Kultur! 🍻 \nEintritt frei \nTreffpunkt\nHaltestelle „Olympiaberg„\, 🚌 Bus 144 \n \n\nHaltestelle „Scheidplatz“\, U-Bahn/ Bus 🚇🚌\nHaltestelle „Rotkreuzplatz“\, Bus 🚌\nHaltestelle „Olympiapark West“\, Tram/Bus 🚉🚌
URL:https://muenchen-aphasiker-kultur.de/event/tollwood-sommerfest-300625/
LOCATION:Tollwood\, Olympiaberg\, Bushaltestelle 144\, München\, 80809
CATEGORIES:Sommerfest
ATTACH;FMTTYPE=image/jpeg:https://muenchen-aphasiker-kultur.de/wp-content/uploads/2024/06/PXL_20240624_151155837-edited-e1748371947244.jpg
END:VEVENT
END:VCALENDAR