BEGIN:VCALENDAR
VERSION:2.0
PRODID:-// - ECPv6.15.20//NONSGML v1.0//EN
CALSCALE:GREGORIAN
METHOD:PUBLISH
X-ORIGINAL-URL:https://muenchen-aphasiker-kultur.de
X-WR-CALDESC:Veranstaltungen für 
REFRESH-INTERVAL;VALUE=DURATION:PT1H
X-Robots-Tag:noindex
X-PUBLISHED-TTL:PT1H
BEGIN:VTIMEZONE
TZID:Europe/Berlin
BEGIN:DAYLIGHT
TZOFFSETFROM:+0100
TZOFFSETTO:+0200
TZNAME:CEST
DTSTART:20240331T010000
END:DAYLIGHT
BEGIN:STANDARD
TZOFFSETFROM:+0200
TZOFFSETTO:+0100
TZNAME:CET
DTSTART:20241027T010000
END:STANDARD
BEGIN:DAYLIGHT
TZOFFSETFROM:+0100
TZOFFSETTO:+0200
TZNAME:CEST
DTSTART:20250330T010000
END:DAYLIGHT
BEGIN:STANDARD
TZOFFSETFROM:+0200
TZOFFSETTO:+0100
TZNAME:CET
DTSTART:20251026T010000
END:STANDARD
BEGIN:DAYLIGHT
TZOFFSETFROM:+0100
TZOFFSETTO:+0200
TZNAME:CEST
DTSTART:20260329T010000
END:DAYLIGHT
BEGIN:STANDARD
TZOFFSETFROM:+0200
TZOFFSETTO:+0100
TZNAME:CET
DTSTART:20261025T010000
END:STANDARD
END:VTIMEZONE
BEGIN:VEVENT
DTSTART;TZID=Europe/Berlin:20250801T190000
DTEND;TZID=Europe/Berlin:20250801T213000
DTSTAMP:20260420T193215
CREATED:20250425T072412Z
LAST-MODIFIED:20250523T060451Z
UID:1412-1754074800-1754083800@muenchen-aphasiker-kultur.de
SUMMARY:🎭🎻 Oper Immling "Manon Lescaut"
DESCRIPTION:Wir gehen in die Oper „Manon Lescaut“ in Immling. 🎭🎻 \nDie Oper\n„Manon Lescaut“ \nOper in vier Akten\nvon Giacomo Puccini\nItalienisch | Deutsche Übertitel \nGeld oder Liebe? Grosses Drama zwischen Herz und Verstand.  💸💓 \nBeginn: 19 Uhr\nSpieldauer: ca. 2 Stunden (+ 30 Minuten Pause) \nTreffpunkt\n17:30 Uhr\nAdresse: Im Gewerbegebiet 3\, 83093 Bad Endorf\n \n\n🚗 Auto (Jürgen Fahrer und drei Plätze)\n🚆Bahn BRB RE5 (50 Minuten)
URL:https://muenchen-aphasiker-kultur.de/event/oper-immling-01082025/
LOCATION:Parkplatz Bad Endorf\, Im Gewerbegebiet 3\, Bad Endorf\, 83093\, Germany
CATEGORIES:Oper
ATTACH;FMTTYPE=image/png:https://muenchen-aphasiker-kultur.de/wp-content/uploads/2025/04/2025-05-21-Monon-Lescaut.png
END:VEVENT
BEGIN:VEVENT
DTSTART;TZID=Europe/Berlin:20250812T170000
DTEND;TZID=Europe/Berlin:20250812T190000
DTSTAMP:20260420T193215
CREATED:20250515T152936Z
LAST-MODIFIED:20250719T060951Z
UID:1539-1755018000-1755025200@muenchen-aphasiker-kultur.de
SUMMARY:🎸 Sommerfestival im Olympiapark
DESCRIPTION:Wir gehen auf das Sommerfest im Olympiapark. 🤗 \nSommerfest\nDie Gastrostande 🥨\, die zum Schlemmen einladen 🥤🍿🍻\, die Budenstraße zum Stöbern 🧶 und Shoppen 🧢. \n\nTheatron MusikSommer\n \nGratis-Konzerte hört ihr auf der Seebühne (19 ~ 22 Uhr) \n \n  \nTreffpunkt\nCoubertinplatz \nOlympiahalle Ost / Schwimmhalle (am Stadtsparkasse Geldautomat) \n \n\nHaltestelle „Olympiazentrum“\, U-Bahn U3/U6 🚇\, 10 Minuten zu Fuß 🚶‍♀️\noder Haltestelle „Scheidplatz“\, U-Bahn/ Bus 🚇🚌\noder Haltestelle „Rotkreuzplatz“\, Bus 🚌\noder Haltestelle „Olympiapark West“\, Tram/Bus 🚉🚌
URL:https://muenchen-aphasiker-kultur.de/event/sommerfestival-im-olympiapark-2025/
LOCATION:Coubertinplatz\, Coubertinpl. 2\, 80809 München\, München\, 80809\, Germany
CATEGORIES:Konzert,Sommerfest
ATTACH;FMTTYPE=image/png:https://muenchen-aphasiker-kultur.de/wp-content/uploads/2025/05/Sommerfest-am-Olympiapark.png
END:VEVENT
BEGIN:VEVENT
DTSTART;TZID=Europe/Berlin:20250825T170000
DTEND;TZID=Europe/Berlin:20250825T190000
DTSTAMP:20260420T193215
CREATED:20250515T150703Z
LAST-MODIFIED:20250805T171804Z
UID:1534-1756141200-1756148400@muenchen-aphasiker-kultur.de
SUMMARY:🌳 Spaziergang im Englischen Garten
DESCRIPTION:Wir gehen spazieren von den Hofgarten ⛲️ nach dem Chinesische Turm 🏯 und in den Biergarten 🍻. \nSpaziergang\nDer Englischer Garten ist München größten Park.🌳🌿 \nHier locken unter anderem der berühmte Monopteros 🧘‍♀️und der Chinesische Turm 🎎🗣️ \n \nDer Spaziergang – also von den Hofgarten ⛲️ nach dem Chinesische Turm 🏯 – beträgt 30 ~ 45 Minuten. \nBiergarten\nSchönes Biergarten 🎠 am Chinesischen Turm mit Selbstbedienung🍻🥨🥕🧀 \nTreffpunkt\nTaxistand Odeonsplatz \n🚇 U-Bahn U3/U4/U5/U6\nZugang zu Haltestelle\nOdeonsplatz/Residenzstraße
URL:https://muenchen-aphasiker-kultur.de/event/englischer-garten-250825/
LOCATION:Chinesischer Turm\, Englischer Garten 3\, München\, 80538\, Germany
CATEGORIES:Biergarten,Spaziergang
ATTACH;FMTTYPE=image/jpeg:https://muenchen-aphasiker-kultur.de/wp-content/uploads/2025/05/320px-Chinesischer_Turm_064.jpg
END:VEVENT
END:VCALENDAR