BEGIN:VCALENDAR
VERSION:2.0
PRODID:-// - ECPv6.15.20//NONSGML v1.0//EN
CALSCALE:GREGORIAN
METHOD:PUBLISH
X-ORIGINAL-URL:https://muenchen-aphasiker-kultur.de
X-WR-CALDESC:Veranstaltungen für 
REFRESH-INTERVAL;VALUE=DURATION:PT1H
X-Robots-Tag:noindex
X-PUBLISHED-TTL:PT1H
BEGIN:VTIMEZONE
TZID:Europe/Berlin
BEGIN:DAYLIGHT
TZOFFSETFROM:+0100
TZOFFSETTO:+0200
TZNAME:CEST
DTSTART:20230326T010000
END:DAYLIGHT
BEGIN:STANDARD
TZOFFSETFROM:+0200
TZOFFSETTO:+0100
TZNAME:CET
DTSTART:20231029T010000
END:STANDARD
BEGIN:DAYLIGHT
TZOFFSETFROM:+0100
TZOFFSETTO:+0200
TZNAME:CEST
DTSTART:20240331T010000
END:DAYLIGHT
BEGIN:STANDARD
TZOFFSETFROM:+0200
TZOFFSETTO:+0100
TZNAME:CET
DTSTART:20241027T010000
END:STANDARD
BEGIN:DAYLIGHT
TZOFFSETFROM:+0100
TZOFFSETTO:+0200
TZNAME:CEST
DTSTART:20250330T010000
END:DAYLIGHT
BEGIN:STANDARD
TZOFFSETFROM:+0200
TZOFFSETTO:+0100
TZNAME:CET
DTSTART:20251026T010000
END:STANDARD
END:VTIMEZONE
BEGIN:VEVENT
DTSTART;TZID=Europe/Berlin:20240527T173000
DTEND;TZID=Europe/Berlin:20240527T203000
DTSTAMP:20260419T194459
CREATED:20240601T142111Z
LAST-MODIFIED:20240908T071335Z
UID:245-1716831000-1716841800@muenchen-aphasiker-kultur.de
SUMMARY:🎳 Kegeln: BOB's Rock&Bowl
DESCRIPTION:Ich habe eine Bahn reserviert. 👍 \n17:30 Uhr – 19:30 Uhr: Bowling\nAb 19:30 Uhr: Essen \nMontag\, 27.5.24\n19 € pro Stunde / Bahn (zusammen 28 €) + Leihschuhe: 2\,80 € p.P.
URL:https://muenchen-aphasiker-kultur.de/event/kegeln-bobs-rockbowl/
LOCATION:BOB’s Rock&Bowl\, Stockacher Str. 5\, München\, 81243
CATEGORIES:Bowling,Kegeln
END:VEVENT
END:VCALENDAR