BEGIN:VCALENDAR
VERSION:2.0
PRODID:-// - ECPv6.15.20//NONSGML v1.0//EN
CALSCALE:GREGORIAN
METHOD:PUBLISH
X-ORIGINAL-URL:https://muenchen-aphasiker-kultur.de
X-WR-CALDESC:Veranstaltungen für 
REFRESH-INTERVAL;VALUE=DURATION:PT1H
X-Robots-Tag:noindex
X-PUBLISHED-TTL:PT1H
BEGIN:VTIMEZONE
TZID:Europe/Berlin
BEGIN:DAYLIGHT
TZOFFSETFROM:+0100
TZOFFSETTO:+0200
TZNAME:CEST
DTSTART:20250330T010000
END:DAYLIGHT
BEGIN:STANDARD
TZOFFSETFROM:+0200
TZOFFSETTO:+0100
TZNAME:CET
DTSTART:20251026T010000
END:STANDARD
BEGIN:DAYLIGHT
TZOFFSETFROM:+0100
TZOFFSETTO:+0200
TZNAME:CEST
DTSTART:20260329T010000
END:DAYLIGHT
BEGIN:STANDARD
TZOFFSETFROM:+0200
TZOFFSETTO:+0100
TZNAME:CET
DTSTART:20261025T010000
END:STANDARD
BEGIN:DAYLIGHT
TZOFFSETFROM:+0100
TZOFFSETTO:+0200
TZNAME:CEST
DTSTART:20270328T010000
END:DAYLIGHT
BEGIN:STANDARD
TZOFFSETFROM:+0200
TZOFFSETTO:+0100
TZNAME:CET
DTSTART:20271031T010000
END:STANDARD
END:VTIMEZONE
BEGIN:VEVENT
DTSTART;TZID=Europe/Berlin:20260210T170000
DTEND;TZID=Europe/Berlin:20260210T190000
DTSTAMP:20260420T144041
CREATED:20251127T171153Z
LAST-MODIFIED:20260117T152022Z
UID:2083-1770742800-1770750000@muenchen-aphasiker-kultur.de
SUMMARY:🎲 Spiele im ASZ Altstadt
DESCRIPTION:Wir spielen die gemeinsame\, verschiedene Gesellschaftsspiele. 🗣😀👤 \nEssen und Trinken\nErfrischungsgetränke: Alkoholfreie Getränke und Tee \nEssen und Trinken auf Altstadt (Pizzeria 🍕\, Thai 🍲\, Wirtshaus 🥗) \nOrt\nAlten- und Service-Zentrum\nASZ – Altstadt\nSebastiansplatz 12\n80331 München\n(barrierefrei ♿) \nTreffpunkt:\n\n🚊S-Bahn / 🚇U-Bahn Marienplatz\n6 min zu Fuß (450 m)\nSebastiansplatz 12\n🚇U-Bahn Sendlinger Tor\n7 min zu Fuß (550 m)\nSebastiansplatz 12
URL:https://muenchen-aphasiker-kultur.de/event/spiele-im-asz-100226/
LOCATION:ASZ Altstadt\, Sebastiansplatz 12\, München\, 80331\, Germany
CATEGORIES:Spiele
ATTACH;FMTTYPE=image/jpeg:https://muenchen-aphasiker-kultur.de/wp-content/uploads/2025/07/ASZ-Spiele-e1758100726857.jpg
END:VEVENT
END:VCALENDAR