BEGIN:VCALENDAR
VERSION:2.0
PRODID:-// - ECPv6.15.20//NONSGML v1.0//EN
CALSCALE:GREGORIAN
METHOD:PUBLISH
X-ORIGINAL-URL:https://muenchen-aphasiker-kultur.de
X-WR-CALDESC:Veranstaltungen für 
REFRESH-INTERVAL;VALUE=DURATION:PT1H
X-Robots-Tag:noindex
X-PUBLISHED-TTL:PT1H
BEGIN:VTIMEZONE
TZID:Europe/Berlin
BEGIN:DAYLIGHT
TZOFFSETFROM:+0100
TZOFFSETTO:+0200
TZNAME:CEST
DTSTART:20240331T010000
END:DAYLIGHT
BEGIN:STANDARD
TZOFFSETFROM:+0200
TZOFFSETTO:+0100
TZNAME:CET
DTSTART:20241027T010000
END:STANDARD
BEGIN:DAYLIGHT
TZOFFSETFROM:+0100
TZOFFSETTO:+0200
TZNAME:CEST
DTSTART:20250330T010000
END:DAYLIGHT
BEGIN:STANDARD
TZOFFSETFROM:+0200
TZOFFSETTO:+0100
TZNAME:CET
DTSTART:20251026T010000
END:STANDARD
BEGIN:DAYLIGHT
TZOFFSETFROM:+0100
TZOFFSETTO:+0200
TZNAME:CEST
DTSTART:20260329T010000
END:DAYLIGHT
BEGIN:STANDARD
TZOFFSETFROM:+0200
TZOFFSETTO:+0100
TZNAME:CET
DTSTART:20261025T010000
END:STANDARD
END:VTIMEZONE
BEGIN:VEVENT
DTSTART;TZID=Europe/Berlin:20251202T170000
DTEND;TZID=Europe/Berlin:20251202T200000
DTSTAMP:20260420T175525
CREATED:20250904T103537Z
LAST-MODIFIED:20251107T200324Z
UID:1874-1764694800-1764705600@muenchen-aphasiker-kultur.de
SUMMARY:🎄Tollwood Winterfestival
DESCRIPTION:Das Tollwood Winterfestival wird häufig als der „alternative Weihnachtsmarkt“ Münchens bezeichnet. 🗣😀👤 \n \nUnd wir werden Food-Stände und kulinarische Köstlichkeiten essen. 🥗🌯🥙🌮🍜 \n \nEintritt\nFestivalgelände ist frei \nTreffpunkt\nTheresienwiese (neben U-Bahn-Haltestelle)\n80336 München\n \nAnfahrt zum Winter- Tollwood\n\n🚇 U-Bahn U4 / U5\nHaltestelle Theresienwiese\n🚈 S-Bahn S1 – S8\nHaltestelle\nHackerbrücke  => 15 Minuten zu Fuß ( 900 m)\nTram 18 / 19\nHaltestelle Holzapfelstraße\nHermann-Lingg-Straße
URL:https://muenchen-aphasiker-kultur.de/event/tollwood-winterfestival-021225/
LOCATION:Theresienwiese\, Theresienwiese\, München\, 80336\, Germany
CATEGORIES:Winterfestival
ATTACH;FMTTYPE=image/jpeg:https://muenchen-aphasiker-kultur.de/wp-content/uploads/2025/11/tollwood-leuchtet-wi2024-c-alexander-scharf-300rgb-1280x400-1.jpg
END:VEVENT
BEGIN:VEVENT
DTSTART;TZID=Europe/Berlin:20251215T170000
DTEND;TZID=Europe/Berlin:20251215T200000
DTSTAMP:20260420T175525
CREATED:20250904T103956Z
LAST-MODIFIED:20251124T195942Z
UID:1876-1765818000-1765828800@muenchen-aphasiker-kultur.de
SUMMARY:☃️ Weihnachtsmärkte in der Münchner Altstadt
DESCRIPTION:Münchner Adventsspektakel + mittelalterlicher Weihnachtsmarkt 🌲🥁\nund \nWeihnachtsdorfs im Kaiserhof der Residenz 🎄🎼 \n \nWittelsbacherplatz (Brienner Straße) 🗣😀👤 und\nResidenz (Odeonsplatz) 🤶🧑‍🎄🎅 \nAuch für das leiblich Wohl ist bestens gesorgt. Zum Aufwärmen gibt es würzigen Glühwein und natürlich auch alkoholfreie Heißgetränke. 🌭🌯🍲🥘🥧 \nTreffpunkt\nOdeonsplatz 1\n80539 München \n\n🚇 U-Bahn Odeonsplatz U3 / U4 / U5 / U6\n🚊 S-Bahn Marienplatz S1-S8 und 10 min zu Fuß (600 min)
URL:https://muenchen-aphasiker-kultur.de/event/weihnachtsmaerkte-in-der-muenchner-altstadt/
LOCATION:Mittelaltermarkt\, Wittelsbacherplatz\, Brienner Straße 6-10\, München\, Germany
CATEGORIES:Christkindlmarkt
ATTACH;FMTTYPE=image/avif:https://muenchen-aphasiker-kultur.de/wp-content/uploads/2025/09/Wittelbacherplatz-e1764014346867.avif
END:VEVENT
END:VCALENDAR