BEGIN:VCALENDAR
VERSION:2.0
PRODID:-// - ECPv6.15.20//NONSGML v1.0//EN
CALSCALE:GREGORIAN
METHOD:PUBLISH
X-ORIGINAL-URL:https://muenchen-aphasiker-kultur.de
X-WR-CALDESC:Veranstaltungen für 
REFRESH-INTERVAL;VALUE=DURATION:PT1H
X-Robots-Tag:noindex
X-PUBLISHED-TTL:PT1H
BEGIN:VTIMEZONE
TZID:Europe/Berlin
BEGIN:DAYLIGHT
TZOFFSETFROM:+0100
TZOFFSETTO:+0200
TZNAME:CEST
DTSTART:20250330T010000
END:DAYLIGHT
BEGIN:STANDARD
TZOFFSETFROM:+0200
TZOFFSETTO:+0100
TZNAME:CET
DTSTART:20251026T010000
END:STANDARD
BEGIN:DAYLIGHT
TZOFFSETFROM:+0100
TZOFFSETTO:+0200
TZNAME:CEST
DTSTART:20260329T010000
END:DAYLIGHT
BEGIN:STANDARD
TZOFFSETFROM:+0200
TZOFFSETTO:+0100
TZNAME:CET
DTSTART:20261025T010000
END:STANDARD
BEGIN:DAYLIGHT
TZOFFSETFROM:+0100
TZOFFSETTO:+0200
TZNAME:CEST
DTSTART:20270328T010000
END:DAYLIGHT
BEGIN:STANDARD
TZOFFSETFROM:+0200
TZOFFSETTO:+0100
TZNAME:CET
DTSTART:20271031T010000
END:STANDARD
END:VTIMEZONE
BEGIN:VEVENT
DTSTART;TZID=Europe/Berlin:20260113T160000
DTEND;TZID=Europe/Berlin:20260113T180000
DTSTAMP:20260420T162021
CREATED:20251219T154519Z
LAST-MODIFIED:20260101T145628Z
UID:2150-1768320000-1768327200@muenchen-aphasiker-kultur.de
SUMMARY:☕ mAks - Aphasiker ...
DESCRIPTION:Wir treffen uns zum Kaffee ☕️ und Tee 🫖trinken und Kuchen 🍰 essen. 🧁🥧 \nTreffpunkt\nBäckerei & Konditorei\nLudwig Riedmair\nhttp://www.riedmair.de \nPelkovenstraße 63 \nMoosacher\nSt.-Martins-Platz \nVerkehrsmittel\n\n🚇 U-Bahn U3\n🚍 Bus 163 / X35\n🚈 S-Bahn S1 „Moosach“ (U-Bahn\, Bus)
URL:https://muenchen-aphasiker-kultur.de/event/maks-aphasiker-2026/
LOCATION:Bäckerei & Konditorei Riedmair\, Pelkovenstr. 63
CATEGORIES:Kaffee trinken
ATTACH;FMTTYPE=image/jpeg:https://muenchen-aphasiker-kultur.de/wp-content/uploads/2026/01/DanielSchvarcz_Riedmair_104-1.jpg
END:VEVENT
END:VCALENDAR