BEGIN:VCALENDAR
VERSION:2.0
PRODID:-// - ECPv6.15.20//NONSGML v1.0//EN
CALSCALE:GREGORIAN
METHOD:PUBLISH
X-ORIGINAL-URL:https://muenchen-aphasiker-kultur.de
X-WR-CALDESC:Veranstaltungen für 
REFRESH-INTERVAL;VALUE=DURATION:PT1H
X-Robots-Tag:noindex
X-PUBLISHED-TTL:PT1H
BEGIN:VTIMEZONE
TZID:Europe/Berlin
BEGIN:DAYLIGHT
TZOFFSETFROM:+0100
TZOFFSETTO:+0200
TZNAME:CEST
DTSTART:20230326T010000
END:DAYLIGHT
BEGIN:STANDARD
TZOFFSETFROM:+0200
TZOFFSETTO:+0100
TZNAME:CET
DTSTART:20231029T010000
END:STANDARD
BEGIN:DAYLIGHT
TZOFFSETFROM:+0100
TZOFFSETTO:+0200
TZNAME:CEST
DTSTART:20240331T010000
END:DAYLIGHT
BEGIN:STANDARD
TZOFFSETFROM:+0200
TZOFFSETTO:+0100
TZNAME:CET
DTSTART:20241027T010000
END:STANDARD
BEGIN:DAYLIGHT
TZOFFSETFROM:+0100
TZOFFSETTO:+0200
TZNAME:CEST
DTSTART:20250330T010000
END:DAYLIGHT
BEGIN:STANDARD
TZOFFSETFROM:+0200
TZOFFSETTO:+0100
TZNAME:CET
DTSTART:20251026T010000
END:STANDARD
END:VTIMEZONE
BEGIN:VEVENT
DTSTART;TZID=Europe/Berlin:20240907T160000
DTEND;TZID=Europe/Berlin:20240907T181500
DTSTAMP:20260423T134319
CREATED:20240906T114059Z
LAST-MODIFIED:20240908T075936Z
UID:776-1725724800-1725732900@muenchen-aphasiker-kultur.de
SUMMARY:📽️ Kino "Alles Fifty Fifty"
DESCRIPTION:📽️ Kino „Alles Fifty Fifty“\nbeim Kinofest 2024\, Mathäser \n \nTreffpunkt\n\nUm 15:30 Uhr treffen wir die Aphasiker\, die NICHT sich gut auskennen\, am Westlichen Gleis von der S-Bahn am Karlsplatz (Stachus).\n\nUm 15:45 Uhr treffen wir gemeinsam an der Kasse am Kino im 1. Stock.
URL:https://muenchen-aphasiker-kultur.de/event/kino-alles-fifty-fifty/
LOCATION:Mathäser Filmpalast\, Mathäser Filmpalast\, Bayerstraße 3-5\, 80335 München\, München\, 80335\, Deutschland
CATEGORIES:Kino
END:VEVENT
BEGIN:VEVENT
DTSTART;TZID=Europe/Berlin:20240908T134500
DTEND;TZID=Europe/Berlin:20240908T161500
DTSTAMP:20260423T134319
CREATED:20240906T114106Z
LAST-MODIFIED:20240908T075925Z
UID:780-1725803100-1725812100@muenchen-aphasiker-kultur.de
SUMMARY:📽️ Kino "Deadpool & Wolverine"
DESCRIPTION:📽️ Kino „Deadpool & Wolverine“\nbeim Kinofest 2024\, Mathäser \n \nDeutsch synchronisiert\, Laser\, 3D \nTreffpunkt\n\nUm 13:15 Uhr treffen wir die Aphasiker\, die NICHT sich gut auskennen\, am Westlichen Gleis von der S-Bahn am Karlsplatz (Stachus).\n\nUm 13:30 Uhr treffen wir gemeinsam an der Kasse am Kino im 1. Stock.
URL:https://muenchen-aphasiker-kultur.de/event/kino-deadpool-wolverine/
LOCATION:Mathäser Filmpalast\, Mathäser Filmpalast\, Bayerstraße 3-5\, 80335 München\, München\, 80335\, Deutschland
CATEGORIES:Kino
END:VEVENT
END:VCALENDAR